BEGIN:VCALENDAR
VERSION:2.0
PRODID:-//Amoreiki - Reiki tradizionale Giapponese - ECPv6.15.20//NONSGML v1.0//EN
CALSCALE:GREGORIAN
METHOD:PUBLISH
X-ORIGINAL-URL:https://amoreiki.it
X-WR-CALDESC:Eventi per Amoreiki - Reiki tradizionale Giapponese
REFRESH-INTERVAL;VALUE=DURATION:PT1H
X-Robots-Tag:noindex
X-PUBLISHED-TTL:PT1H
BEGIN:VTIMEZONE
TZID:Europe/Rome
BEGIN:DAYLIGHT
TZOFFSETFROM:+0100
TZOFFSETTO:+0200
TZNAME:CEST
DTSTART:20230326T010000
END:DAYLIGHT
BEGIN:STANDARD
TZOFFSETFROM:+0200
TZOFFSETTO:+0100
TZNAME:CET
DTSTART:20231029T010000
END:STANDARD
BEGIN:DAYLIGHT
TZOFFSETFROM:+0100
TZOFFSETTO:+0200
TZNAME:CEST
DTSTART:20240331T010000
END:DAYLIGHT
BEGIN:STANDARD
TZOFFSETFROM:+0200
TZOFFSETTO:+0100
TZNAME:CET
DTSTART:20241027T010000
END:STANDARD
BEGIN:DAYLIGHT
TZOFFSETFROM:+0100
TZOFFSETTO:+0200
TZNAME:CEST
DTSTART:20250330T010000
END:DAYLIGHT
BEGIN:STANDARD
TZOFFSETFROM:+0200
TZOFFSETTO:+0100
TZNAME:CET
DTSTART:20251026T010000
END:STANDARD
END:VTIMEZONE
BEGIN:VEVENT
DTSTART;TZID=Europe/Rome:20240914T100000
DTEND;TZID=Europe/Rome:20240915T183000
DTSTAMP:20260420T042123
CREATED:20240228T151326Z
LAST-MODIFIED:20240918T084732Z
UID:2213-1726308000-1726425000@amoreiki.it
SUMMARY:Corso Reiki Primo Livello a Palermo Sabato e Domenica 21 e 22 Settembre
DESCRIPTION:Il corso è tenuto da Gianluigi Costa Presidente e Responsabile Didattico dell’Associazione Italiana Reiki\, autore del libro: “Reiki tradizionale giapponese” \nIL SENTIERO DELLA MEDICINA SPIRITUALE ED ENERGETICA\nTutti nella vita ricerchiamo una sola cosa la “Felicità”\, però molto spesso la cerchiamo nel posto e nelle cose sbagliate. Reiki è uno degli strumenti che ci sono stati donati per raggiungere l’Hanshin Ritsumei “Assoluta Pace Interiore (felicità). \n Vuoi cambiare la tua Vita? \nPer partecipare al 1° livello di Reiki non servono requisiti o capacità particolari\, ma solo il sincero desiderio di essere felici!!! \n Di seguito quello che imparerai nel seminario Reiki di primo livello: \nReiki Ryoho cos’è – Le origini del Reiki e la storia – Shoden 初伝 (primo livello) – I Cinque Principi – Caratteristiche del Reiki – Utilizzi del Reiki – Come tenere le mani – L’autotrattamento (Ten-no Kata) – Il Trattamento di Usui per tutte le Malattie (Taikyoku Kata) – Shudan Reiki (maratona Reiki) – Shuchu Reiki (trattamento di gruppo) – Reiki Mawashi (cerchio Reiki) – Jaki Kili Joka (purificazione oggetti) – metodi per elevare la tua energia\, Meditazione Gassho e Meditazione Anapanasati – La Visione Spirituale della malattia – Malattia e karma – Cos’è e come funziona il Karma – Le tre leggi fondamentali della creazione – Le tre vie per la realizzazione della Coscienza Cosmica (anshin ritsumei o Illuminazione). \n\n \n\nNel corso reiki primo livello\, le persone ricevono quattro iniziazioni energetiche (Reiju) che hanno lo scopo da ripulire e aprire maggiormente i canali energetici principali che attraversano il nostro copro. In questo modo vengono messi in condizione di ricevere Reiki dalla fonte originaria (luce\, Amore\, spirito Universale\, Dio) e trasmetterlo attraverso le mani. Le iniziazioni durano alcuni minuti\, e si fanno singolarmente ad ogni partecipante\, la cosa che tengo a sottolineare che sono dei momenti Sacri. Infatti quello che avviene durante l’iniziazione è ogni volta un piccolo miracolo. Con questo non voglio creare aspettative particolari\, ma semplicemente testimoniare che dopo le attivazioni le mani di tutti i partecipanti diventano dei fantastici strumenti di Luce \nAlla fine del seminario riceverai un manuale operativo e un attestato riconosciuto dall’Associazione Italiana Reiki\nIscriviti subito per non perdere la priorità in quanto il corso è a numero chiuso\ninfo e iscrizioni  Gianluigi 3297223672 \n\n\n\nIscriviti subito per non perdere la priorità in quanto il corso è a numero chiuso\nDopo l’invio del modulo iscrizione\, per perfezionare la stessa dovresti versare un acconto di 50\,00 €.  con il Bottone Paga Adesso sottostante al modulo di iscrizione per versamenti con carta di credito o Paypal.\nSe preferisci altre modalità le trovi sotto il bottone paga adesso. \n\nPrivacy policy \n\n\n\n\n \n\n\n\n\n\n\nSe non hai un conto PayPal o carta di credito (Bottone qui sopra) puoi versare l’acconto di richiesto di 50 €. con Bonifico ad uno dei  seguenti IBAN \nDE30100110012626643165  (Banca N26 ) \nin alternativa puoi fare bonifico sul seguente conto corrente postale\nIT64E0760101600000049827546  \nintestato a gianluigi costa con causale  corso di …. del… \nSe hai un conto corrente Postale: PostaGiro CC. 49827546 con causale corso di …. del… \noppure tramite bollettino postale intestato a Gianluigi Costa c/c n° 49827546  con causale corso di …. del… \ncon queste modalità dovresti poi mandare ricevuta del versamento effettuato ed i tuoi dati anagrafici via mail a info@amoreiki.it – oppure scatta una foto con il tuo smartphone e mandala tramite WhatsApp \nSe hai un account Satispay puoi fare il versamento da questa piattaforma. \n\n\n\n\n* Importante!!!\nP.S. per  motivi organizzativi e di spese sostenute per affitto locali e materiale didattico gli acconti versati potranno essere restituiti solamente se la disdetta di partecipazione viene fatta almeno tre giorni prima della data del corso prenotato. In caso contrario l’acconto versato potrà essere imputato alla partecipazione di un altro corso di Amoreki. \nIscrivendoti dichiari di aver letto e accetare quanto sopra! \nInfo Federica 347.6144690
URL:https://amoreiki.it/event/corso-reiki-primo-livello-palermo/
LOCATION:Danza Diamante\, Via Giuseppe Lanza di Scalea\, Palermo\, Palermo\, 90147\, Italia
CATEGORIES:1 livello,Corsi Reiki
ATTACH;FMTTYPE=image/jpeg:https://amoreiki.it/wp-content/uploads/2014/10/reiki-primo-livello-copia-e1712658251583.jpg
ORGANIZER;CN="Gianluigi Costa":MAILTO:info@amoreiki.it
END:VEVENT
END:VCALENDAR