BEGIN:VCALENDAR
VERSION:2.0
PRODID:-//Amoreiki - Reiki tradizionale Giapponese - ECPv6.15.20//NONSGML v1.0//EN
CALSCALE:GREGORIAN
METHOD:PUBLISH
X-ORIGINAL-URL:https://amoreiki.it
X-WR-CALDESC:Eventi per Amoreiki - Reiki tradizionale Giapponese
REFRESH-INTERVAL;VALUE=DURATION:PT1H
X-Robots-Tag:noindex
X-PUBLISHED-TTL:PT1H
BEGIN:VTIMEZONE
TZID:Europe/Rome
BEGIN:DAYLIGHT
TZOFFSETFROM:+0100
TZOFFSETTO:+0200
TZNAME:CEST
DTSTART:20240331T010000
END:DAYLIGHT
BEGIN:STANDARD
TZOFFSETFROM:+0200
TZOFFSETTO:+0100
TZNAME:CET
DTSTART:20241027T010000
END:STANDARD
BEGIN:DAYLIGHT
TZOFFSETFROM:+0100
TZOFFSETTO:+0200
TZNAME:CEST
DTSTART:20250330T010000
END:DAYLIGHT
BEGIN:STANDARD
TZOFFSETFROM:+0200
TZOFFSETTO:+0100
TZNAME:CET
DTSTART:20251026T010000
END:STANDARD
BEGIN:DAYLIGHT
TZOFFSETFROM:+0100
TZOFFSETTO:+0200
TZNAME:CEST
DTSTART:20260329T010000
END:DAYLIGHT
BEGIN:STANDARD
TZOFFSETFROM:+0200
TZOFFSETTO:+0100
TZNAME:CET
DTSTART:20261025T010000
END:STANDARD
END:VTIMEZONE
BEGIN:VEVENT
DTSTART;TZID=Europe/Rome:20250903T210000
DTEND;TZID=Europe/Rome:20250903T223000
DTSTAMP:20260419T202547
CREATED:20250628T154311Z
LAST-MODIFIED:20250905T135910Z
UID:4959-1756933200-1756938600@amoreiki.it
SUMMARY:Conferenza: L’Inganno dell'Acqua “POTABILE” mercoledì 10 settembre h. 21.00 a Milano
DESCRIPTION:Relatore: Gianluigi Costa\, Presidente dell’Associazione Italiana Reiki \nQuello che non ti hanno mai detto sull’acqua che bevi ogni giorno… \nCredi davvero che l’acqua del rubinetto o quella in bottiglia sia sicura?Purtroppo la verità è ben diversa: anche l’acqua considerata “potabile” può contenere sostanze inquinanti non controllate\, e quindi essere tutt’altro che sana. \n Cosa si nasconde dietro l’etichetta “potabile”? Chi ci guadagna davvero dal mercato dell’acqua? Perché questa è una delle più grandi truffe orchestrate da governi e multinazionali? \nDurante questa conferenza riceverai informazioni cruciali che potrebbero cambiare per sempre il tuo modo di vedere (e bere) l’acqua.E soprattutto\, scoprirai una via d’uscita concreta per difenderti e tutelare la tua salute. \n Evento gratuito – Prenotazione obbligatoriaPosti limitati. La verità non aspetta. \nPer prenotare:\nGianluigi Costa – 329.7223672\nMarcello Daleno – 328.4159433 \nQuale acqua bere?
URL:https://amoreiki.it/event/inganno-dell-acqua-potabile/
LOCATION:Centro La Sfera\, Via Asiago 51\, Milano\, Seleziona uno Stato:\, 20128\, Italy
CATEGORIES:Eventi
ATTACH;FMTTYPE=image/jpeg:https://amoreiki.it/wp-content/uploads/2018/05/acqua.jpg
ORGANIZER;CN="Gianluigi Costa":MAILTO:info@amoreiki.it
END:VEVENT
END:VCALENDAR