BEGIN:VCALENDAR
VERSION:2.0
PRODID:-//Amoreiki - Reiki tradizionale Giapponese - ECPv6.15.20//NONSGML v1.0//EN
CALSCALE:GREGORIAN
METHOD:PUBLISH
X-WR-CALNAME:Amoreiki - Reiki tradizionale Giapponese
X-ORIGINAL-URL:https://amoreiki.it
X-WR-CALDESC:Eventi per Amoreiki - Reiki tradizionale Giapponese
REFRESH-INTERVAL;VALUE=DURATION:PT1H
X-Robots-Tag:noindex
X-PUBLISHED-TTL:PT1H
BEGIN:VTIMEZONE
TZID:Europe/Rome
BEGIN:DAYLIGHT
TZOFFSETFROM:+0100
TZOFFSETTO:+0200
TZNAME:CEST
DTSTART:20250330T010000
END:DAYLIGHT
BEGIN:STANDARD
TZOFFSETFROM:+0200
TZOFFSETTO:+0100
TZNAME:CET
DTSTART:20251026T010000
END:STANDARD
BEGIN:DAYLIGHT
TZOFFSETFROM:+0100
TZOFFSETTO:+0200
TZNAME:CEST
DTSTART:20260329T010000
END:DAYLIGHT
BEGIN:STANDARD
TZOFFSETFROM:+0200
TZOFFSETTO:+0100
TZNAME:CET
DTSTART:20261025T010000
END:STANDARD
BEGIN:DAYLIGHT
TZOFFSETFROM:+0100
TZOFFSETTO:+0200
TZNAME:CEST
DTSTART:20270328T010000
END:DAYLIGHT
BEGIN:STANDARD
TZOFFSETFROM:+0200
TZOFFSETTO:+0100
TZNAME:CET
DTSTART:20271031T010000
END:STANDARD
END:VTIMEZONE
BEGIN:VEVENT
DTSTART;TZID=Europe/Rome:20260314T100000
DTEND;TZID=Europe/Rome:20260315T190000
DTSTAMP:20260420T094535
CREATED:20230611T131722Z
LAST-MODIFIED:20251218T090145Z
UID:2203-1773482400-1773601200@amoreiki.it
SUMMARY:Corso Reiki Secondo Livello a Milano Sabato e Domenica 14 e 15 Marzo
DESCRIPTION:Corso Reiki – Secondo Livello\nCosa imparerai durante il corso? \n\nTanden Chiryo Ho (Gedoku Ho): trattamento disintossicante\nHeso Chiryo Ho: trattamento riequilibrante\nUchite Chiryo Ho\, Nadete Chiryo Ho e Oshite Chiryo Ho: trattamenti per i dolori\nZenshin Ketsueki Kokan Ho: purificazione del sangue\nShirushi (simboli): utilizzo pratico\n\nPrimo simbolo: come si utilizza\nSecondo simbolo: come si utilizza e trattamento mentale\nTerzo simbolo: come si utilizza e trattamento a distanza\n\n\nHatsu Rei Ho: esercizi per rafforzare e armonizzare l’energia vitale.\n\nCorsi riconosciuti dall’Associazione Italiana Reiki per un Reiki etico e professionale!\nNon perdere l’occasione: iscriviti subito per garantirti un posto\, il corso è a numero chiuso . \n\nPerché il Secondo Livello è speciale?\nIl Secondo Livello Reiki (Chuden 中伝) rappresenta un importante passo avanti\, permettendoti di lavorare con strumenti avanzati. Non significa abbandonare le tecniche apprese nel primo livello\, ma piuttosto ampliare il tuo arsenale con strumenti che potenziano e ottimizzano il lavoro energetico. \nI simboli Reiki sono chiavi che consentono di accedere a energie specifiche\, permettendoti di affrontare problematiche fisiche\, emotive\, mentali e spirituali in modo mirato. Inoltre\, riceverai una nuova iniziazione che amplificherà ulteriormente la tua connessione con l’ Energia Vitale Universale . Durante questa cerimonia\, i simboli verranno “fissati” sui palmi delle tue mani\, rendendoli strumenti ancora più potenti. \n\nInformazioni importanti per chi ha conseguito il Primo Livello presso altre scuole:\nSe hai ottenuto il Primo Livello Reiki da un insegnante non riconosciuto dall’Associazione Italiana Reiki \, ti invitiamo a contattarci prima di iscriverti. Valuteremo insieme la necessità di un aggiornamento preliminare per allinearti agli standard della nostra scuola. Il nostro obiettivo è assicurarti una formazione solida e completa\, evitando che tu possa trarre poco beneficio dal corso di Secondo Livello per mancanza di basi adeguate. \n\nDocente del corso: \nGianluigi Costa \, Presidente e Responsabile Didattico dell’Associazione Italiana Reiki\, autore del libro “Reiki tradizionale giapponese – La via della medicina spirituale ed energetica” . \nIscriviti Subito Compila il Modulo Sottostante\nAbilita JavaScript nel browser per completare questo modulo.Abilita JavaScript nel browser per completare questo modulo.Nome *Cognome *Via e numero civico *c.a.p. e città *Codice Fiscale *Telefono *Email *per favore inserisci la tua emailScegli corso *Reiki 1° livelloReiki 2° livelloReiki 3° livelloMeditazione con mantraRespirazione e pranayamaTecniche energetiche integrateMassaggio energergetico spiritualeRicarica energetica e med. Hong SoAggiornamento Reiki 1° livelloAggiornamento Reiki 2° livelloAggiornamento Reiki 3° livelloAltro...Indica altro corsoData del corso *Iscriviti newsletter di Amoreiki Eventuali tue note o richiesteWebsiteInvia  \n 
URL:https://amoreiki.it/event/corso-reiki-livello-milano-14-e-15-marzo/
LOCATION:Amoreiki\, Via Asiago 51\, Milano\, 20128\, Italia
CATEGORIES:2 livello,Corsi Reiki
ATTACH;FMTTYPE=image/jpeg:https://amoreiki.it/wp-content/uploads/2019/02/reiki-secondo-livello-copia-e1623934251179.jpg
ORGANIZER;CN="Gianluigi Costa":MAILTO:info@amoreiki.it
END:VEVENT
BEGIN:VEVENT
DTSTART;TZID=Europe/Rome:20260425T100000
DTEND;TZID=Europe/Rome:20260425T130000
DTSTAMP:20260420T094535
CREATED:20250905T080006Z
LAST-MODIFIED:20260407T111729Z
UID:2099-1777111200-1777122000@amoreiki.it
SUMMARY:Conferenza di presentazione sul Reiki Sabato 25 Aprile h. 10.00 a Milano
DESCRIPTION:Reiki il  Risveglio delle Mani di Luce e la Via della Pace Interiore\n \n“Il Reiki Tradizionale Giapponese: il Sentiero della Guarigione Energetica e Spirituale” \nScopri le origini autentiche del Reiki\, così come veniva praticato in Giappone all’inizio del ‘900 da Mikao Usui.Durante questa conferenza introduttiva\, avrai l’opportunità di comprendere cosa sia davvero il Reiki Tradizionale Giapponese\, libero da contaminazioni e sovrastrutture occidentali. \nCos’è il Reiki e da dove nasce?Qual è la differenza tra Reiki tradizionale e quello moderno?Come si trasmette e quali benefici porta alla salute fisica\, emotiva e spirituale?Perché oggi è più che mai attuale e necessario? \n✨ Conduce Gianluigi Costa\, Master Reiki e massimo esperto italiano di Reiki Tradizionale Giapponese\, autore\, formatore e presidente dell’Associazione Italiana Reiki.Con oltre 30 anni di esperienza\, guida percorsi autentici di crescita interiore\, meditazione e medicina energetica. \nChiama il 329.7223672 per prenotare
URL:https://amoreiki.it/event/conferenza-presentazione-reiki/
LOCATION:Amoreiki\, Via Asiago 51\, Milano\, 20128\, Italia
CATEGORIES:1 livello,2 livello,3 livello,Eventi
ATTACH;FMTTYPE=image/jpeg:https://amoreiki.it/wp-content/uploads/2023/10/conferenza-reiki-e1728218430667.jpg
ORGANIZER;CN="Gianluigi Costa":MAILTO:info@amoreiki.it
END:VEVENT
BEGIN:VEVENT
DTSTART;TZID=Europe/Rome:20260509T100000
DTEND;TZID=Europe/Rome:20260510T180000
DTSTAMP:20260420T094535
CREATED:20260218T064656Z
LAST-MODIFIED:20260217T105344Z
UID:11342-1778320800-1778436000@amoreiki.it
SUMMARY:Incontro Nazionale di Reiki Tradizionale Giapponese 9 e 10 Maggio 2026 a Gavi (AL)
DESCRIPTION:🌸 Incontro Nazionale di Reiki Tradizionale Giapponese 🌸\nNella stupenda sede del Ma Center Italy\, l’ashram di Amma in Italia\,\ndue giorni di immersione autentica nel Reiki Tradizionale Giapponese\, dedicati alla pratica\, alla meditazione e alla condivisione profonda. \nL’evento\, organizzato dall’Associazione Italiana Reiki\, riunisce praticanti e allievi di qualsiasi scuola in uno spazio di crescita\, confronto e trasmissione del metodo originale. \nGuidati dai Maestri dell’Associazione Italiana Reiki\, i partecipanti vivranno momenti di meditazione Gassho\, Reiju\, Reiki Mawashi\, approfondimento dei simboli e pratica dei 5 Principi e trattamenti base e avanzati\, in un clima di rispetto\, autenticità e spirito tradizionale. \nUn’occasione preziosa per ritornare all’essenza del Reiki e rafforzare il proprio cammino interiore. 🙏✨ \nProgramma Ufficiale\n\n🌿 SABATO 9 MAGGIO\nOre 10:00 – 12:30Accoglienza partecipanti \nOre 13:00Pranzo \nOre 14:30Inizio lavori \nMeditazione iniziale \nPresentazione dei partecipanti \nPresentazione dell’A.I.RE. (Associazione Italiana Reiki) \nPresentazione dell’evento \nOre 16:00Termine prima parte \nInsegnamento della Meditazione Gassho \nOre 16:40 – Pratica Meditazione e Reiju Aperto \nOre 17:10 – Reiki Mawashi \nPausa (30 minuti) \nOre 17:40 Scambio Reiki \nOre 18:45 – 19:45Domande e Risposte e Condivisione \nOre 20:00Cena \nOre 21:30 – 22:30Esperienze degli Insegnanti \n\n🌿 DOMENICA 10 MAGGIO\nOre 08:00 – 09:00Insegnamente e pratica della Meditazione Anapanasati \nOre 09:00 – 10:00Colazione \nOre 10:00 – 10:45Gassho della Non Mente e Reiju \nOre 10:45 – 11:45Shuchū Reiki (Trattamento da più operatori 集中 冷気) \nOre 11:45 – 13:00 \n(Divisione in due gruppi)Approfondimento sui simboli (come si usano teoria e pratica) per secondi\, terzi livello e per Master\nAuto Trattamento e condivisione per primi livelloOre 13:00 – 14:30Pranzo \nOre 14:30 – 15:30Come mettere in pratica i 5 Principi \nOre 15:30 – 17:00(Divisione in gruppi)\nTrattamenti avanzati di Secondo Livello\, Tanden Chiryo Hō – Heso Chiryo Hō – Uchite Chiryo Hō – Nadete Chiryo Hō – Oshite Chiryo Hō per secondi\, terzi livello e per Master.\nTrattamento parte malata per primi livello teoria e pratica. \nCondivisione finale e conclusioni \nOre 18:00Consegna attestati di partecipazione e chiusura dell’evento \nLa quota di partecipazione comprende vitto\, alloggio e formazione \nIscriviti Subito\, posti limitati!
URL:https://amoreiki.it/event/incontro-nazionale-di-reiki-tradizionale-giapponese-9-e-10-maggio-2026-a-gavi-al/
LOCATION:Ma Center Italy\, via Nebbioli 44\, Gavi\, Alessandria\, 15066\, Italy
CATEGORIES:1 livello,2 livello,3 livello,agg master,Corsi Reiki
ATTACH;FMTTYPE=image/jpeg:https://amoreiki.it/wp-content/uploads/2026/02/ChatGPT-Image-16-feb-2026-12_18_21.jpg
ORGANIZER;CN="Associazione Italiana Reiki":MAILTO:info@associazioneitalianareiki.com
END:VEVENT
BEGIN:VEVENT
DTSTART;TZID=Europe/Rome:20260516T100000
DTEND;TZID=Europe/Rome:20260516T170000
DTSTAMP:20260420T094535
CREATED:20140904T153153Z
LAST-MODIFIED:20260217T091906Z
UID:1001-1778925600-1778950800@amoreiki.it
SUMMARY:Reiki Day a Milano domenica 16 Maggio h. 10.00 - 17.00 aperto a tutti!
DESCRIPTION:Reiki Day a Milano\nUna giornata di energia\, condivisione e consapevolezza\nCon Gianluigi CostaPresidente dell’Associazione Italiana Reiki \nUn’intera giornata dedicata al Reiki Tradizionale Giapponese\, aperta a tutti\, anche a chi non pratica e non conosce il Reiki. \nIl Reiki Day è un’occasione speciale per incontrarsi\, praticare insieme\, condividere esperienze profonde e vivere momenti di autentica connessione\, in un clima di gioia\, serenità e rispetto. \nÈ un evento pensato per: \n\n\nOperatori Reiki \n\n\nMaster Reiki \n\n\nAppassionati \n\n\nCuriosi che desiderano avvicinarsi per la prima volta al Reiki \n\n\nNon è richiesta alcuna esperienza precedente. \n\n✨ Programma della giornata\nOre 10.00🔹 Reiki Mawashi – Cerchio ReikiApertura della giornata con la pratica tradizionale di scambio energetico in cerchio. \nOre 10.30🔹 Reiju ApertoAperto a tutti\, anche a chi non ha mai praticato Reiki. \nOre 11.00🔹 Scambi di trattamenti Reiki \nOre 12.45🔹 Pausa pranzoCon proiezione di video a tema spirituale(Pranzo al sacco) \nOre 14.30🔹 Condivisione e domande sulla pratica ReikiSpazio aperto di confronto\, chiarimenti e approfondimenti. \nOre 15.30🔹 Chiyu Mawashi – Cerchio di GuarigioneMeditazione di guarigione dedicata al pianeta\, alle persone in difficoltà e all’umanità. \nOre 16.15🔹 Insegnamenti ReikiApprofondimento su:Piano Fisico – Astrale – Causale(o argomenti richiesti direttamente dai partecipanti) \nOre 17.00🔹 Saluti e chiusura della giornata \n\n🌈 Un’esperienza intensa\, semplice e autentica\, per ritrovare il contatto con l’energia Reiki e con il cuore della sua pratica. \nP.s. Portare mangiare al sacco. \nCosto della giornata €. 20\,00 \nPrenotazione obbligatoria al 329.7223672\nVi Aspettiamo Numerosi – le prenotazioni si chiudono la sera prima\nalle h. 20\,00
URL:https://amoreiki.it/event/reiki-day-milano/
LOCATION:Amoreiki\, Via Asiago 51\, Milano\, Milano\, 20128\, Italia
CATEGORIES:1 livello,2 livello,3 livello,agg master,Eventi,incontri settimanali,meditazione
ATTACH;FMTTYPE=image/jpeg:https://amoreiki.it/wp-content/uploads/2014/09/reiki-day-milano.jpg
ORGANIZER;CN="Gianluigi Costa":MAILTO:info@amoreiki.it
END:VEVENT
BEGIN:VEVENT
DTSTART;TZID=Europe/Rome:20260613T100000
DTEND;TZID=Europe/Rome:20260614T180000
DTSTAMP:20260420T094535
CREATED:20250713T074545Z
LAST-MODIFIED:20251227T174047Z
UID:2204-1781344800-1781460000@amoreiki.it
SUMMARY:Corso Reiki secondo livello a  Milano il 13 e 14 Giugno
DESCRIPTION:Corso Reiki – Secondo Livello\nCosa imparerai durante il corso? \n\nTanden Chiryo Ho (Gedoku Ho): trattamento sintossicante\nHeso Chiryo Ho: trattamento riequilibrante\nUchite Chiryo Ho\, Nadete Chiryo Ho e Oshite Chiryo Ho: trattamenti per i dolori\nZenshin Ketsueki Kokan Ho: purificazione del sangue\nShirushi (simboli): utilizzo pratico\n\nPrimo simbolo: come si utilizza\nSecondo simbolo: come si utilizza e trattamento mentale\nTerzo simbolo: come si utilizza e trattamento a distanza\n\n\nHatsu Rei Ho: esercizi per rafforzare e armonizzare l’energia vitale.\n\nCorsi riconosciuti dall’Associazione Italiana Reiki per un Reiki etico e professionale!\nNon perdere l’occasione: iscriviti subito per garantirti un posto\, il corso è a numero chiuso . \n\nPerché il Secondo Livello è speciale?\nIl Secondo Livello Reiki (Chuden 中伝) rappresenta un importante passo avanti\, permettendoti di lavorare con strumenti avanzati. Non significa abbandonare le tecniche apprese nel primo livello\, ma piuttosto ampliare il tuo arsenale con strumenti che potenziano e ottimizzano il lavoro energetico. \nI simboli Reiki sono chiavi che consentono di accedere a energie specifiche\, permettendoti di affrontare problematiche fisiche\, emotive\, mentali e spirituali in modo mirato. Inoltre\, riceverai una nuova iniziazione che amplificherà ulteriormente la tua connessione con l’ Energia Vitale Universale . Durante questa cerimonia\, i simboli verranno “fissati” sui palmi delle tue mani\, rendendoli strumenti ancora più potenti. \n\nInformazioni importanti per chi ha conseguito il Primo Livello presso altre scuole:\nSe hai ottenuto il Primo Livello Reiki da un insegnante non riconosciuto dall’Associazione Italiana Reiki \, ti invitiamo a contattarci prima di iscriverti. Valuteremo insieme la necessità di un aggiornamento preliminare per allinearti agli standard della nostra scuola. Il nostro obiettivo è assicurarti una formazione solida e completa\, evitando che tu possa trarre poco beneficio dal corso di Secondo Livello per mancanza di basi adeguate. \n\nDocente del corso: \nGianluigi Costa \, Presidente e Responsabile Didattico dell’Associazione Italiana Reiki\, autore del libro “Reiki tradizionale giapponese – La via della medicina spirituale ed energetica” . \nIscriviti Subito Compila il Modulo Sottostante\nAbilita JavaScript nel browser per completare questo modulo.Abilita JavaScript nel browser per completare questo modulo.Nome *Cognome *Via e numero civico *c.a.p. e città *Codice Fiscale *Telefono *Email *per favore inserisci la tua emailScegli corso *Reiki 1° livelloReiki 2° livelloReiki 3° livelloMeditazione con mantraRespirazione e pranayamaTecniche energetiche integrateMassaggio energergetico spiritualeRicarica energetica e med. Hong SoAggiornamento Reiki 1° livelloAggiornamento Reiki 2° livelloAggiornamento Reiki 3° livelloAltro...Indica altro corsoData del corso *Iscriviti newsletter di Amoreiki Eventuali tue note o richiestePhoneInvia  \n\n\n 
URL:https://amoreiki.it/event/corso-reiki-livello-milano-13/
LOCATION:Amoreiki\, Via Asiago 51\, Milano\, Milano\, 20128\, Italia
CATEGORIES:2 livello,Corsi Reiki
ATTACH;FMTTYPE=image/jpeg:https://amoreiki.it/wp-content/uploads/2019/02/reiki-secondo-livello-copia-e1623934251179.jpg
ORGANIZER;CN="Gianluigi Costa":MAILTO:info@amoreiki.it
END:VEVENT
END:VCALENDAR