BEGIN:VCALENDAR
VERSION:2.0
PRODID:-//Amoreiki - Reiki tradizionale Giapponese - ECPv6.15.20//NONSGML v1.0//EN
CALSCALE:GREGORIAN
METHOD:PUBLISH
X-ORIGINAL-URL:https://amoreiki.it
X-WR-CALDESC:Eventi per Amoreiki - Reiki tradizionale Giapponese
REFRESH-INTERVAL;VALUE=DURATION:PT1H
X-Robots-Tag:noindex
X-PUBLISHED-TTL:PT1H
BEGIN:VTIMEZONE
TZID:Europe/Rome
BEGIN:DAYLIGHT
TZOFFSETFROM:+0100
TZOFFSETTO:+0200
TZNAME:CEST
DTSTART:20180325T010000
END:DAYLIGHT
BEGIN:STANDARD
TZOFFSETFROM:+0200
TZOFFSETTO:+0100
TZNAME:CET
DTSTART:20181028T010000
END:STANDARD
BEGIN:DAYLIGHT
TZOFFSETFROM:+0100
TZOFFSETTO:+0200
TZNAME:CEST
DTSTART:20190331T010000
END:DAYLIGHT
BEGIN:STANDARD
TZOFFSETFROM:+0200
TZOFFSETTO:+0100
TZNAME:CET
DTSTART:20191027T010000
END:STANDARD
BEGIN:DAYLIGHT
TZOFFSETFROM:+0100
TZOFFSETTO:+0200
TZNAME:CEST
DTSTART:20200329T010000
END:DAYLIGHT
BEGIN:STANDARD
TZOFFSETFROM:+0200
TZOFFSETTO:+0100
TZNAME:CET
DTSTART:20201025T010000
END:STANDARD
END:VTIMEZONE
BEGIN:VEVENT
DTSTART;TZID=Europe/Rome:20190406T110000
DTEND;TZID=Europe/Rome:20190406T190000
DTSTAMP:20260424T043817
CREATED:20181226T100110Z
LAST-MODIFIED:20190215T104148Z
UID:3287-1554548400-1554577200@amoreiki.it
SUMMARY:Seminario Pronuncia del Sanskrito per recitare correttamente i Mantra a San Giuliano M. (MI) il 6 Aprile
DESCRIPTION:IMPARIAMO A PRONUNCIARE IL SANSCRITO\nSeminario volto all’apprendimento della pronuncia della lingua Sanscrita per recitare correttamente i Mantra\n———– \nIl Sanscrito\, lingua dei Veda\, dello yoga\, dei mantra\, è una lingua unica al mondo. La sua forza risiede nel riprodurre\, con i suoi suoni e quindi con le sue parole\, l’essenza vibratoria di ogni cosa esistente nel creato.\nE’ una lingua “rivelata” direttamente dal divino\, perfetta nella sua costruzione e dotata di potere creativo e curativo.\nSaper pronunciare correttamente il sanscrito permette di accedere ad un livello più sottile dell’esistenza e di entrare in risonanza con la vibrazione cosmica universale.\nL’alfabeto sanscrito è composto di 51 sillabe\, 51 suoni “seme” dai quali è scaturito l’intero universo.\nCiascuna lettera dell’alfabeto tocca dei punti energetici particolari dentro di noi in grado di sbloccare energie stagnanti e riportare equilibrio ed armonia. \nIl corso mira dunque a trasferire l’esatta pronuncia delle 51 lettere dell’alfabeto sanscrito così da rendere ancora più efficace la nostra pratica di ripetizione e canto dei mantra. \n————————————– \nIl corso sarà tenuto dalla Dott.ssa in Lingue Nadia Ferrara\, insegnante di Yoga\, meditazione e Yoga del Suono \n 
URL:https://amoreiki.it/event/seminario-pronuncia-del-sanskrito-per-recitare-correttamente-i-mantra-a-milano/
LOCATION:Associazione le Colonne\, Via Risorgimento 3\, San Giuliano MIlanese\, Milano\, 20098\, Italy
CATEGORIES:Eventi,harmonium,kirtan,meditazione
ATTACH;FMTTYPE=image/jpeg:https://amoreiki.it/wp-content/uploads/2015/12/Devimahatmya_Sanskrit_MS_Nepal_11c-e1733477603109.jpg
ORGANIZER;CN="Associazione Le Colonne":MAILTO:mary.mus@libero.it
END:VEVENT
BEGIN:VEVENT
DTSTART;TZID=Europe/Rome:20190316T170000
DTEND;TZID=Europe/Rome:20190316T190000
DTSTAMP:20260424T043817
CREATED:20190227T174048Z
LAST-MODIFIED:20190227T174541Z
UID:5999-1552755600-1552762800@amoreiki.it
SUMMARY:Workshop YOGA NIDRA – sabato 16 marzo a Gaggiano (MI) - h. 17.00 - 19.00
DESCRIPTION:“Workshop YOGA NIDRA: Per sperimentare stati di profondo rilassamento psico-fisico”.\n\n—————–Una pratica che dona benessere psicofisico\, calma la mente\, induce stati meditativi e rilassa il tuo corpo. \nVieni a provare!\n“Abbandonati con fiducia alla voce che conduce\, la tua coscienza rimarrà attiva e vigile e il tuo corpo si rilasserà completamente “ \n*************\nNel corso del workshop verrà proposta una breve pratica di hatha yoga e di pranayama per preparare i praticanti alla pratica del sonno cosciente\, o yoga nidra.\nVerranno esposti ed elencati i benefici principali e chi vorrà potrà verbalizzare e condividere i propri vissuti nel gruppo\, ad esperienza conclusa. \nConduce: Simona Danesi\, insegnante di yoga iscritta alla YANI\n*************\nIscrizioni entro il 13 marzo\nPer informazioni\,  info@shantipath.it – oppure  347.5753884 – 329.7223672
URL:https://amoreiki.it/event/workshop-yoga-nidra-sabato-16-marzo-a-gaggiano-mi-h-17-00-19-00/
LOCATION:Amoreiki\, Via Asiago 51\, Milano\, 20128\, Italia
CATEGORIES:Eventi,meditazione
ORGANIZER;CN="Shanti Path":MAILTO:info@shantipath.it
END:VEVENT
END:VCALENDAR