BEGIN:VCALENDAR
VERSION:2.0
PRODID:-//Amoreiki - Reiki tradizionale Giapponese - ECPv6.15.20//NONSGML v1.0//EN
CALSCALE:GREGORIAN
METHOD:PUBLISH
X-WR-CALNAME:Amoreiki - Reiki tradizionale Giapponese
X-ORIGINAL-URL:https://amoreiki.it
X-WR-CALDESC:Eventi per Amoreiki - Reiki tradizionale Giapponese
REFRESH-INTERVAL;VALUE=DURATION:PT1H
X-Robots-Tag:noindex
X-PUBLISHED-TTL:PT1H
BEGIN:VTIMEZONE
TZID:Europe/Rome
BEGIN:DAYLIGHT
TZOFFSETFROM:+0100
TZOFFSETTO:+0200
TZNAME:CEST
DTSTART:20130331T010000
END:DAYLIGHT
BEGIN:STANDARD
TZOFFSETFROM:+0200
TZOFFSETTO:+0100
TZNAME:CET
DTSTART:20131027T010000
END:STANDARD
BEGIN:DAYLIGHT
TZOFFSETFROM:+0100
TZOFFSETTO:+0200
TZNAME:CEST
DTSTART:20140330T010000
END:DAYLIGHT
BEGIN:STANDARD
TZOFFSETFROM:+0200
TZOFFSETTO:+0100
TZNAME:CET
DTSTART:20141026T010000
END:STANDARD
BEGIN:DAYLIGHT
TZOFFSETFROM:+0100
TZOFFSETTO:+0200
TZNAME:CEST
DTSTART:20150329T010000
END:DAYLIGHT
BEGIN:STANDARD
TZOFFSETFROM:+0200
TZOFFSETTO:+0100
TZNAME:CET
DTSTART:20151025T010000
END:STANDARD
END:VTIMEZONE
BEGIN:VEVENT
DTSTART;TZID=Europe/Rome:20140930T210000
DTEND;TZID=Europe/Rome:20140930T230000
DTSTAMP:20260420T184155
CREATED:20140912T140307Z
LAST-MODIFIED:20140912T152805Z
UID:2085-1412110800-1412118000@amoreiki.it
SUMMARY:Conferenza  Riconoscere la Magia
DESCRIPTION:La Magia tanto discussa\, nessuno ci crede ma tanti la usano e si rivolgono ai maghi alle cartomanti  ai medium e parapsicologi. \nL’obiettivo della conferenza è di fare una panoramica sulla magia nei nostri tempi moderni\, e soprattutto dare degli strumenti a tutti i partecipanti per poter capire se si è sotto attacco magico\, la così detta Fattura. \nPerchè tutto questo? Per portarvi alla conoscenza di un mondo occulto molto presente e attivo affinchè possiate conoscere quello che pochi sanno! \nHo deciso di condividere queste conoscenze con più persone possibili affichè possano essere messe in guardia da un fenomeno che è attivo come non mai! \nNon sono un Mago non voglio vendere nulla ma solo condividere una ricerca che la vita mi ha guidato a intraprendere! \nGianluigi \nPrenotazione obbiligatoria al 3297223672 – info@amoreiki.it
URL:https://amoreiki.it/event/conferenza-riconoscere-la-magia/
LOCATION:Associazione Italiana Reiki\, Via A. Volta 29\, Gaggiano\, Milano\, 20083\, Italia
ATTACH;FMTTYPE=image/jpeg:https://amoreiki.it/wp-content/uploads/2014/09/magia1.jpg
END:VEVENT
BEGIN:VEVENT
DTSTART;TZID=Europe/Rome:20140927T100000
DTEND;TZID=Europe/Rome:20140928T180000
DTSTAMP:20260420T184155
CREATED:20140828T080711Z
LAST-MODIFIED:20140921T180603Z
UID:102-1411812000-1411927200@amoreiki.it
SUMMARY:Corso Reiki Primo Livello Milano
DESCRIPTION:Corso Reiki Primo Livello Milano\nUltimi 4 posti disponibili! \nDi seguito quello che imparerai nei corsi reiki primo livello:\nReiki Ryoho cos’è – Le origini del Reiki e la storia – Shoden 初伝 (primo livello) – I Cinque Principi – Caratteristiche del Reiki – Utilizzi del Reiki – Come tenere le mani – L’autotrattamento (Ten-no Kata) – Il trattamento sugli altri (Taikyoku Kata) – Trattamento tradizionale per disturbi cronici – Shudan Reiki (maratona Reiki) – Shuchu Reiki (trattamento di gruppo) – Reiki Mawashi (cerchio Reiki) – Jaki Kili Joka (purificazione oggetti) – metodi per elevare la tua energia Hatsurei Meditazione Gassho e Meditazione Anapanasati \niscriviti \n Associazione Italiana Reiki\nNel corso reiki primo livello\, le persone ricevono quattro iniziazioni energetiche che hanno lo scopo da ripulire e aprire maggiormente i canali energetici principali che attraversano il nostro copro. In questo modo vengono messi in condizione di ricevere Reiki dalla fonte originaria (luce\, Amore\, spirito Universale\, Dio) e trasmetterlo attraverso le mani. Le iniziazioni durano alcuni minuti\, e si fanno singolarmente ad ogni partecipante\, la cosa che tengo a sottolineare che sono dei momenti Sacri. Infatti quello che avviene durante l’iniziazione è ogni volta un piccolo miracolo. Con questo non voglio creare aspettative particolari\, ma semplicemente testimoniare che dopo le attivazioni le mani di tutti i partecipanti diventano dei fantastici strumenti di Luce. \n 
URL:https://amoreiki.it/event/corso-reiki-primo-livello-milano/
LOCATION:Associazione Italiana Reiki\, Via A. Volta 29\, Gaggiano\, Milano\, 20083\, Italia
CATEGORIES:Eventi
ATTACH;FMTTYPE=image/jpeg:https://amoreiki.it/wp-content/uploads/2014/09/10553566_10204018564244861_7373082629575371312_n.jpg
ORGANIZER;CN="Gianluigi Costa":MAILTO:info@amoreiki.it
END:VEVENT
END:VCALENDAR