BEGIN:VCALENDAR
VERSION:2.0
PRODID:-//Amoreiki - Reiki tradizionale Giapponese - ECPv6.15.20//NONSGML v1.0//EN
CALSCALE:GREGORIAN
METHOD:PUBLISH
X-WR-CALNAME:Amoreiki - Reiki tradizionale Giapponese
X-ORIGINAL-URL:https://amoreiki.it
X-WR-CALDESC:Eventi per Amoreiki - Reiki tradizionale Giapponese
REFRESH-INTERVAL;VALUE=DURATION:PT1H
X-Robots-Tag:noindex
X-PUBLISHED-TTL:PT1H
BEGIN:VTIMEZONE
TZID:Europe/Rome
BEGIN:DAYLIGHT
TZOFFSETFROM:+0100
TZOFFSETTO:+0200
TZNAME:CEST
DTSTART:20230326T010000
END:DAYLIGHT
BEGIN:STANDARD
TZOFFSETFROM:+0200
TZOFFSETTO:+0100
TZNAME:CET
DTSTART:20231029T010000
END:STANDARD
BEGIN:DAYLIGHT
TZOFFSETFROM:+0100
TZOFFSETTO:+0200
TZNAME:CEST
DTSTART:20240331T010000
END:DAYLIGHT
BEGIN:STANDARD
TZOFFSETFROM:+0200
TZOFFSETTO:+0100
TZNAME:CET
DTSTART:20241027T010000
END:STANDARD
BEGIN:DAYLIGHT
TZOFFSETFROM:+0100
TZOFFSETTO:+0200
TZNAME:CEST
DTSTART:20250330T010000
END:DAYLIGHT
BEGIN:STANDARD
TZOFFSETFROM:+0200
TZOFFSETTO:+0100
TZNAME:CET
DTSTART:20251026T010000
END:STANDARD
END:VTIMEZONE
BEGIN:VEVENT
DTSTART;TZID=Europe/Rome:20240501T170000
DTEND;TZID=Europe/Rome:20240501T200000
DTSTAMP:20260420T094038
CREATED:20240507T131554Z
LAST-MODIFIED:20240529T113107Z
UID:10056-1714582800-1714593600@amoreiki.it
SUMMARY:Apericena tra Scienza e Spiritualità a Merate (LC) il 31 Maggio
DESCRIPTION:“Apericena tra Scienza e Spiritualità” con il Maestro Gianluigi Costa\, presidente dell’Associazione Italiana Reiki (A.I.RE.)\, e il professor Nicola Limardo: \n\n🌟 Apericena tra Scienza e Spiritualità 🌟 \nUnisciti a noi per una serata speciale dedicata all’incontro tra scienza e spiritualità! Durante questa Apericena\, avremo l’onore di ascoltare il Maestro Gianluigi Costa\, presidente dell’A.I.RE.\, e il professor Nicola Limardo\, esperto nel campo della spiritualità e della ricerca interiore. \n🗓️ Data: 31 Maggio 🕕 Orario: 17:00  📍 Luogo: Bliss via Campi 19 Merate (LC) \nDurante la serata\, esploreremo i seguenti temi: \n\nLa Spiritualità come Ricerca della Verità\n\nLa spiritualità è molto più di una semplice contemplazione. È la ricerca delle leggi universali che governano l’universo e la nostra esistenza. Scopriremo come le tecniche insegnate dai veri Maestri possono trasformare la spiritualità in una vera e propria scienza1.\n\n\nIl Reiki Tradizionale Giapponese\n\nIl Maestro Gianluigi Costa\, fondatore della scuola Amoreiki\, ci guiderà attraverso gli insegnamenti tradizionali giapponesi del Reiki. Scopriremo come questa antica pratica possa aiutarci a ristabilire l’equilibrio tra corpo\, mente e spirito\, favorendo l’auto-guarigione e la pace interiore2.\n\n\nL’Armonia tra Scienza e Spiritualità\n\nIl professor Nicola Limardo ci parlerà dell’importanza di unire la conoscenza scientifica con la ricerca spirituale. Come possiamo integrare queste due prospettive per vivere una vita più consapevole e significativa?\n\n\n\nNon perdere questa straordinaria opportunità di connetterti con la tua essenza spirituale e di esplorare nuove prospettive sulla vita e sull’universo. L’apericena sarà un momento di condivisione\, riflessione e ispirazione. \n🎟️ Prenota il tuo posto ora! Contattaci al numero 351 5619713 \nTi aspettiamo per una serata indimenticabile!
URL:https://amoreiki.it/event/apericena-tra-scienza-e-spiritualita-a-merate-lc-il-31-maggio/
LOCATION:Milano
CATEGORIES:Eventi
ATTACH;FMTTYPE=image/jpeg:https://amoreiki.it/wp-content/uploads/2024/05/apericena-tra-scienza-e-spiritualita-e1715087725459.jpeg
END:VEVENT
BEGIN:VEVENT
DTSTART;TZID=Europe/Rome:20240504T100000
DTEND;TZID=Europe/Rome:20240504T173000
DTSTAMP:20260420T094038
CREATED:20221110T104431Z
LAST-MODIFIED:20240423T173043Z
UID:7266-1714816800-1714843800@amoreiki.it
SUMMARY:Il magico mondo dei Mantra e dei Mudra Sabato 4 Maggio a Milano
DESCRIPTION:L’antica tradizione dell’India ci offre molti strumenti per il benessere\, fisico\, mentale e spirituale\, tra questi troviamo i Mantra ed i Mudra. Essi sono potenti strumenti per attivare\, attirare e gestire potenti energie di guarigione a tutti i livelli dell’essere. \nIn questo work shop avrai la possibilità di approfondirne l’origine e le infinite potenzialità. \nLa parola Mantra deriva da Manas = Mente\, Tra = proteggere/liberare pertanto queste potenti formule hanno lo scopo di trasformare la nostra mente inferiore dominata dall’inoranza allo stato superiore di consapevolezza e conoscenza. \nMudra\, letteralmente “sigillo” sono posizioni delle mani e delle dita che hanno la finzione di attivare dei circuiti elettromagnetici atti a generare particolari energie che avranno effetti specifici su corpo\, mente e spirito. \nI Mantra usano il suono\, che è la stessa origine della creazione mentre i Mudra attivano questi suoni dentro di noi per questo sono due strumenti molto potenti ed efficaci per raggiunere elevati stati di benessere e coscienza. \nImparerete a meditare con potenti Mantra e la fantastica tescnica Japa \nIscriviti qui
URL:https://amoreiki.it/event/il-magico-mondo-dei-mantra-e-dei-mudra/
LOCATION:Amoreiki\, Via Asiago 51\, Milano\, 20128\, Italia
CATEGORIES:Eventi,meditazione
ATTACH;FMTTYPE=image/jpeg:https://amoreiki.it/wp-content/uploads/2022/11/mantra-e-mudra-e1668077043945.jpg
ORGANIZER;CN="Gianluigi Costa":MAILTO:info@amoreiki.it
END:VEVENT
BEGIN:VEVENT
DTSTART;TZID=Europe/Rome:20240518T103000
DTEND;TZID=Europe/Rome:20240519T180000
DTSTAMP:20260420T094038
CREATED:20230906T095848Z
LAST-MODIFIED:20240426T104601Z
UID:7665-1716028200-1716141600@amoreiki.it
SUMMARY:Come Essere Felici in Coppia a Milano Sabato e Domenica 18 e 19 Maggio
DESCRIPTION:Come Essere Felici in Coppia\nAl giorno d’oggi sono sempre di più le coppie che scoppiano. Questo seminari ha lo scopo di insegnarci ad avere una relazione in armonia e felice. Una relazione che migliori nel tempo aumentando amore e rispoetto reciproci. \nDi seguito alcune indicazioni sulla formazione:\n\nComunicazione aperta e onesta : La comunicazione è fondamentale in una relazione. Parlate apertamente dei vostri pensieri\, sentimenti e desideri. Ascoltate l’altro con attenzione e senza giudicare.\nRispetto reciproco : Trattate il vostro partner con rispetto\, gentilezza e considerazione. Riconoscete l’individualità dell’altro e le sue opinioni\, anche se diverse dalle vostre.\nAffetto e intimità : L’affetto fisico e l’intimità giocano un ruolo importante nella felicità di coppia. Abbracci\, baci e momenti di intimità aiutano a rafforzare il legame.\nCondivisione di interessi : Trova attività o interessi comuni che possiate condividere. Questo rafforzerà il vostro legame e vi darà l’opportunità di trascorrere del tempo di qualità insieme.\nGestire i conflitti in modo costruttivo : I conflitti sono inevitabili\, ma è importante imparare a gestirli in modo costruttivo. Ascoltate l’altro\, cercate soluzioni insieme ed evitate di reagire impulsivamente.\nSorprendetevi a vicenda : Una sorpresa improvvisata o un piccolo gesto d’affetto possono rafforzare il vostro legame e far sentire il partner apprezzato.\n\nInfo e prenotazioni Mariateresa 346 0462500
URL:https://amoreiki.it/event/come-essere-felici-in-coppia/
LOCATION:AIMA Ayurveda\, Via Teocrito 50\, Milano\, Milano\, 20128\, Italy
CATEGORIES:Eventi
ATTACH;FMTTYPE=image/jpeg:https://amoreiki.it/wp-content/uploads/2023/09/come-essere-felici-in-coppia-sito.jpg
END:VEVENT
BEGIN:VEVENT
DTSTART;TZID=Europe/Rome:20240524T100000
DTEND;TZID=Europe/Rome:20240526T190000
DTSTAMP:20260420T094038
CREATED:20240515T100045Z
LAST-MODIFIED:20240515T101110Z
UID:10078-1716544800-1716750000@amoreiki.it
SUMMARY:4 Longevity dal 24 al 26 Maggio ad Ascea Marina
DESCRIPTION:🌟 Scopri l’evento 4 longevity! 🌟\nVieni a trovarmi dal 24 al 26 maggio all’incantevole Villaggio delle Palme ad Ascea Marina (SA) per un’esperienza unica dedicata alla longevità e al benessere! \n🧘‍♂️ Durante l’evento\, presenterò una relazione affascinante che unisce il potere del Reiki alla scienza\, esplorando come queste pratiche possano contribuire alla longevità e al benessere generale. \n🌿 Ma le sorprese non finiscono qui! Parteciperai anche a una coinvolgente lezione di Meditazione\, ideale per riequilibrare mente e corpo. \n💆‍♀️ E non perdere l’opportunità di sperimentare il potere trasformativo delle sessioni individuali di Reiki e le sedute Bioplasm\, pensate per rigenerare e rilassare profondamente. \nUnisciti a me per tre giorni di conoscenza\, benessere e scoperta al 4longevity! Prenota ora il tuo posto e preparati a vivere un’esperienza indimenticabile per il corpo e per l’anima. Ti aspetto! 🌟 \nInoltre: \n\n\n\nAvrete la possibilità di sperimentare altre tecniche e metodi con i professionisti selezionati dallo staff 4 Longevity\n\n\n\n\n\n\n\n\n\n#4longevity is coming…seguici nei prossimi giorni per scoprire tutti i programmi!\nIniziamo oggi con il presentarvi i nostri corsi di formazione:\nworkshop “La coppia longeva e felice” tenuto dalla dott.ssa Mariateresa Conte\nIl corso si terrà sabato 25 maggio dalle 9.30 alle 15.30\ncorso di formazione “Trattamento detensionante muscolare “ tenuto dal trainer certificato Francesco Mastropietro\nIl corso si terrà venerdì 24 maggio dalle ore 14:30 alle ore 18:30.
URL:https://amoreiki.it/event/4longevity-dal-24-al-26-maggio-ad-ascea-marina/
LOCATION:Villaggio le Palme\, Viale esperia 1\, Ascea Marina\, 84046\, Italia
CATEGORIES:Eventi,meditazione
ATTACH;FMTTYPE=image/jpeg:https://amoreiki.it/wp-content/uploads/2024/05/4longevity2-e1715767232716.jpg
ORGANIZER;CN="Centro Studi Paf":MAILTO:infocentrostudipaf@gmail.com
END:VEVENT
END:VCALENDAR