BEGIN:VCALENDAR
VERSION:2.0
PRODID:-//Amoreiki - Reiki tradizionale Giapponese - ECPv6.15.20//NONSGML v1.0//EN
CALSCALE:GREGORIAN
METHOD:PUBLISH
X-WR-CALNAME:Amoreiki - Reiki tradizionale Giapponese
X-ORIGINAL-URL:https://amoreiki.it
X-WR-CALDESC:Eventi per Amoreiki - Reiki tradizionale Giapponese
REFRESH-INTERVAL;VALUE=DURATION:PT1H
X-Robots-Tag:noindex
X-PUBLISHED-TTL:PT1H
BEGIN:VTIMEZONE
TZID:Europe/Rome
BEGIN:DAYLIGHT
TZOFFSETFROM:+0100
TZOFFSETTO:+0200
TZNAME:CEST
DTSTART:20230326T010000
END:DAYLIGHT
BEGIN:STANDARD
TZOFFSETFROM:+0200
TZOFFSETTO:+0100
TZNAME:CET
DTSTART:20231029T010000
END:STANDARD
BEGIN:DAYLIGHT
TZOFFSETFROM:+0100
TZOFFSETTO:+0200
TZNAME:CEST
DTSTART:20240331T010000
END:DAYLIGHT
BEGIN:STANDARD
TZOFFSETFROM:+0200
TZOFFSETTO:+0100
TZNAME:CET
DTSTART:20241027T010000
END:STANDARD
BEGIN:DAYLIGHT
TZOFFSETFROM:+0100
TZOFFSETTO:+0200
TZNAME:CEST
DTSTART:20250330T010000
END:DAYLIGHT
BEGIN:STANDARD
TZOFFSETFROM:+0200
TZOFFSETTO:+0100
TZNAME:CET
DTSTART:20251026T010000
END:STANDARD
END:VTIMEZONE
BEGIN:VEVENT
DTSTART;TZID=Europe/Rome:20241011T210000
DTEND;TZID=Europe/Rome:20241011T223000
DTSTAMP:20260420T011203
CREATED:20241008T135011Z
LAST-MODIFIED:20241008T135047Z
UID:10356-1728680400-1728685800@amoreiki.it
SUMMARY:Presentazione Online - Psicosomatica: Il Potere del Corpo nella Guarigione Emotiva
DESCRIPTION:Scopri come le emozioni influenzano il corpo e come la psicosomatica può aiutarti a risolvere conflitti interiori e promuovere il benessere fisico ed emotivo. In questa conferenza\, Mariateresa Conte Ruocco\, counselor a indirizzo psicosomatico\, ti guiderà attraverso strumenti pratici e tecniche per trasformare le sfide emotive in opportunità di crescita e guarigione. Unisciti a noi per una sessione interattiva e coinvolgente che ti permetterà di comprendere meglio la connessione tra mente e corpo. \nIscriviti ora\nPer partecipare\, scrivi una mail a info@amoreiki.it  o contattami al 329.7223672 e riceverai il link Zoom per accedere alla conferenza. Non perdere questa opportunità di scoprire un nuovo approccio al benessere!
URL:https://amoreiki.it/event/psicosomatica-il-potere-del-corpo-nella-guarigione-emotiva/
LOCATION:On Line
CATEGORIES:Eventi
ATTACH;FMTTYPE=image/jpeg:https://amoreiki.it/wp-content/uploads/2024/10/psicosom-sito-e1728395391563.jpg
END:VEVENT
BEGIN:VEVENT
DTSTART;TZID=Europe/Rome:20241017T210000
DTEND;TZID=Europe/Rome:20241017T223000
DTSTAMP:20260420T011203
CREATED:20241008T134156Z
LAST-MODIFIED:20241014T080409Z
UID:10350-1729198800-1729204200@amoreiki.it
SUMMARY:Conferenza Online sul Reiki Tradizionale Giapponese
DESCRIPTION:“Il Sentiero della Medicina Energetica e Spirituale: Il Reiki Tradizionale Giapponese”\nEsplora il vero Reiki tradizionale giapponese\, un’antica disciplina di guarigione energetica e spirituale. Gianluigi Costa\, presidente dell’Associazione Italiana Reiki\, ti guiderà in un viaggio alla scoperta di questa pratica\, spiegando come il Reiki possa armonizzare corpo\, mente e spirito\, favorendo un profondo equilibrio interiore. Durante la conferenza\, imparerai le basi della medicina energetica giapponese ei benefici della pratica nel mondo moderno. \nIscriviti subito alla Zoom!\nPer partecipare\, scrivi una mail a info@amoreiki.it  oppure contattami al 329.7223672 e riceverai il link per accedere alla conferenza. Non perdere l’occasione di immergerti nella saggezza del Reiki tradizionale giapponese!
URL:https://amoreiki.it/event/conferenza-online-sul-reiki-tradizionale-giapponese/
LOCATION:On Line
CATEGORIES:Eventi
ATTACH;FMTTYPE=image/jpeg:https://amoreiki.it/wp-content/uploads/2024/10/reiki-tradizionale-e1728394900873.jpg
ORGANIZER;CN="Gianluigi Costa":MAILTO:info@amoreiki.it
END:VEVENT
END:VCALENDAR