BEGIN:VCALENDAR
VERSION:2.0
PRODID:-//Amoreiki - Reiki tradizionale Giapponese - ECPv6.15.20//NONSGML v1.0//EN
CALSCALE:GREGORIAN
METHOD:PUBLISH
X-WR-CALNAME:Amoreiki - Reiki tradizionale Giapponese
X-ORIGINAL-URL:https://amoreiki.it
X-WR-CALDESC:Eventi per Amoreiki - Reiki tradizionale Giapponese
REFRESH-INTERVAL;VALUE=DURATION:PT1H
X-Robots-Tag:noindex
X-PUBLISHED-TTL:PT1H
BEGIN:VTIMEZONE
TZID:Europe/Rome
BEGIN:DAYLIGHT
TZOFFSETFROM:+0100
TZOFFSETTO:+0200
TZNAME:CEST
DTSTART:20240331T010000
END:DAYLIGHT
BEGIN:STANDARD
TZOFFSETFROM:+0200
TZOFFSETTO:+0100
TZNAME:CET
DTSTART:20241027T010000
END:STANDARD
BEGIN:DAYLIGHT
TZOFFSETFROM:+0100
TZOFFSETTO:+0200
TZNAME:CEST
DTSTART:20250330T010000
END:DAYLIGHT
BEGIN:STANDARD
TZOFFSETFROM:+0200
TZOFFSETTO:+0100
TZNAME:CET
DTSTART:20251026T010000
END:STANDARD
BEGIN:DAYLIGHT
TZOFFSETFROM:+0100
TZOFFSETTO:+0200
TZNAME:CEST
DTSTART:20260329T010000
END:DAYLIGHT
BEGIN:STANDARD
TZOFFSETFROM:+0200
TZOFFSETTO:+0100
TZNAME:CET
DTSTART:20261025T010000
END:STANDARD
END:VTIMEZONE
BEGIN:VEVENT
DTSTART;TZID=Europe/Rome:20250903T210000
DTEND;TZID=Europe/Rome:20250903T223000
DTSTAMP:20260419T184336
CREATED:20250628T154311Z
LAST-MODIFIED:20250905T135910Z
UID:4959-1756933200-1756938600@amoreiki.it
SUMMARY:Conferenza: L’Inganno dell'Acqua “POTABILE” mercoledì 10 settembre h. 21.00 a Milano
DESCRIPTION:Relatore: Gianluigi Costa\, Presidente dell’Associazione Italiana Reiki \nQuello che non ti hanno mai detto sull’acqua che bevi ogni giorno… \nCredi davvero che l’acqua del rubinetto o quella in bottiglia sia sicura?Purtroppo la verità è ben diversa: anche l’acqua considerata “potabile” può contenere sostanze inquinanti non controllate\, e quindi essere tutt’altro che sana. \n Cosa si nasconde dietro l’etichetta “potabile”? Chi ci guadagna davvero dal mercato dell’acqua? Perché questa è una delle più grandi truffe orchestrate da governi e multinazionali? \nDurante questa conferenza riceverai informazioni cruciali che potrebbero cambiare per sempre il tuo modo di vedere (e bere) l’acqua.E soprattutto\, scoprirai una via d’uscita concreta per difenderti e tutelare la tua salute. \n Evento gratuito – Prenotazione obbligatoriaPosti limitati. La verità non aspetta. \nPer prenotare:\nGianluigi Costa – 329.7223672\nMarcello Daleno – 328.4159433 \nQuale acqua bere?
URL:https://amoreiki.it/event/inganno-dell-acqua-potabile/
LOCATION:Centro La Sfera\, Via Asiago 51\, Milano\, Seleziona uno Stato:\, 20128\, Italy
CATEGORIES:Eventi
ATTACH;FMTTYPE=image/jpeg:https://amoreiki.it/wp-content/uploads/2018/05/acqua.jpg
ORGANIZER;CN="Gianluigi Costa":MAILTO:info@amoreiki.it
END:VEVENT
BEGIN:VEVENT
DTSTART;TZID=Europe/Rome:20250917T190000
DTEND;TZID=Europe/Rome:20250917T203000
DTSTAMP:20260419T184336
CREATED:20231026T111133Z
LAST-MODIFIED:20250714T094954Z
UID:1119-1758135600-1758141000@amoreiki.it
SUMMARY:Scambi Reiki aperti a tutti ogni mercoledì sera h. 19:00 a Milano
DESCRIPTION:SCAMBI REIKI\nScambi  Reiki tutti i mercoledì sera alle ore 19:00 presso Amoreiki via Asiago 51 a Milano –  info@amoreiki.it – 3297223672 prenotazione obbligatoria\n“Raggiungi l’armonia con gli Scambi di Trattamenti Reiki! \nSei pronto per un mercoledì speciale dedicato al benessere e alla condivisione? Unisciti a noi per una serata straordinaria di trattamenti Reiki\, guidata da Gianluigi Costa\, il nostro esperto Reiki Master. \nCosa aspettarti: \n\nSupervisione esperta: Gianluigi sarà lì per garantire che ogni trattamento venga eseguito correttamente\, rispondere alle tue domande e dissipare ogni dubbio.\nMeditazione iniziale: Inizia la serata con una profonda meditazione che preparerà la tua mente e il tuo spirito per un’esperienza straordinaria.\nReiju Potenziante: Sperimenta il potere trasformativo del Reiju\, un’attivazione speciale che intensificherà la tua connessione con l’energia Reiki.\n\nLa partecipazione è aperta a tutti\, sia che tu sia un praticante esperto di Reiki o che tu si completamente a digiuno inizia ora la tua avventura in questo mondo. Il contributo per la sala è di soli €. 10\,00\, un investimento minimo per il tuo benessere. \nEcco una sorpresa speciale: anche coloro che non hanno mai provato il Reiki sono i benvenuti! Riceverai un trattamento e\, se lo desideri\, potrai sperimentare un Reiju temporaneo. Sarà un’opportunità unica per scoprire il potere del Reiki e migliorare la tua energia vitale. \nNon perdere questa straordinaria opportunità di connessione\, guarigione e crescita interiore. Unisciti a noi mercoledì e fatti avvolgere dall’energia positiva del Reiki. Ti aspettiamo numerosi per una serata indimenticabile!”\nVai a cos’è Reiki \nPerchè fare gli scambi Reiki
URL:https://amoreiki.it/event/scambi-reiki-milano/
LOCATION:Amoreiki\, Via Asiago 51\, Milano\, 20128\, Italia
CATEGORIES:1 livello,2 livello,3 livello,agg master,Eventi,incontri settimanali,meditazione
ATTACH;FMTTYPE=image/jpeg:https://amoreiki.it/wp-content/uploads/2023/10/scambi-reiki-1-e1728218903410.jpg
ORGANIZER;CN="Gianluigi Costa":MAILTO:info@amoreiki.it
END:VEVENT
BEGIN:VEVENT
DTSTART;TZID=Europe/Rome:20250927T100000
DTEND;TZID=Europe/Rome:20250928T183000
DTSTAMP:20260419T184336
CREATED:20230703T074928Z
LAST-MODIFIED:20241206T095801Z
UID:5020-1758967200-1759084200@amoreiki.it
SUMMARY:Corso Reiki Primo Livello a Milano Sabato e Domenica 27 e 28 Settembre
DESCRIPTION:Corso Reiki Primo livello a Milano\nReiki: Il Sentiero della Medicina Spirituale ed Energetica\nSiamo entusiasti di invitarti a un’esperienza straordinaria di guarigione e crescita interiore! Il  Maestro Reiki Gianluigi Costa\, Presidente dell’Associazione Italiana Reiki\, ti guiderà attraverso un viaggio di scoperta nel mondo affascinante del Reiki tradizionale giapponese. \n🌿 Descrizione del Corso Reiki Primo Livello: \n\nLivello I: Il Fondamento\nQuesto corso introduttivo ti immergerà nel cuore del Reiki tradizionale giapponese. Imparerai le tecniche di base per l’auto-guarigione e il riequilibrio energetico e delle efficaci meditazione per potenziare la tua energia e accrescere la pace interiore. Il Maestro Costa condividerà con te la sua vasta esperienza e conoscenza delle antiche tradizioni del Reiki\, aprendoti a un mondo di energia\, consapevolezza e benessere.\n\n💎 Cosa Imparerai: \n\nOrigini del Reiki Giapponese: Scoprirai la storia e la filosofia di questa pratica.\nL’ideogramma: significati macro e micro cosmici.\nTecniche di Guarigione: Imparerai le tecniche per canalizzare l’energia Reiki per la guarigione energetica e spirituale di te stesso e degli altri – Taikyoku Kata – Ten-no Kata – Shuchu Reiki – Shudan Reiki.\nMeditazione e Consapevolezza: Approfondirai la tua connessione con l’energia universale attraverso la meditazione Gassho\, la tua consapevolezza con la meditazione Anapanasati e ti libererai dalle tensioni fisiche e mentali con la respirazione Hado.\nIniziazioni Energetiche: Riceverai quattro iniziazioni energetiche (Reiju).\nLa visione olistaca della malattia: Tutte le concause fisico/energetico/spirituali che innescano il processo della malattia. Ergo Malattia e Karma.\nKarma: Cos’è\, come funziona e come modificarlo.\nLe tre vie per la realizzazione della Coscienza Cosmica:  Insegnamenti universali applicati al Reiki tradizionale.\nAnshin Ritsumei o Dai Ko Myo: Lo scopo ultimo del Reiki è l’Illuminazione o Assoluta Pace Interiore.\nLe tre leggi fondamentali della creazione: Il pensiero crea; simile attira simile; come in alto così in basso – applicazioni e scopi.\nJaki Kili Joka: Purificazione degli oggetti.\nJiko Joka: Purificazione personale.\nGo Kai: I cinque principi per purificare la mente.\nCertificazione e manuale: Alla fine del corso\, riceverai una certificazione ufficiale di completamento riconosciuta dall’Associazione Italiana Reiki e un manuale operativo.\n\n📞 Iscriviti Ora:\nI posti sono limitati\, quindi assicurati di prenotare il tuo posto in anticipo\, compilando il sottostante modulo di iscrizione! \n \nUnisciti a noi in questo straordinario viaggio di autodescoper­ta\, guarigione e trasformazione. Il Reiki tradizionale giapponese è una fonte di benessere e consapevolezza. Non perdere questa opportunità unica! \n🌟 Entra nel flusso dell’energia universale con il Maestro Reiki Gianluigi Costa e inizia il tuo cammino verso una vita più equilibrata e armoniosa. 🌟 \nPer partecipare al corso Reiki di primo livello non sono richeste doti particolari se non la voglia di migliorare la propria vita! \nIscriviti Subito Compila il Modulo Sottostante\nAbilita JavaScript nel browser per completare questo modulo.Abilita JavaScript nel browser per completare questo modulo.Nome *Cognome *Via e numero civico *c.a.p. e città *Codice Fiscale *Telefono *Email *per favore inserisci la tua emailScegli corso *Reiki 1° livelloReiki 2° livelloReiki 3° livelloMeditazione con mantraRespirazione e pranayamaTecniche energetiche integrateMassaggio energergetico spiritualeRicarica energetica e med. Hong SoAggiornamento Reiki 1° livelloAggiornamento Reiki 2° livelloAggiornamento Reiki 3° livelloAltro...Indica altro corsoData del corso *Iscriviti newsletter di Amoreiki Eventuali tue note o richiesteWebsiteInvia
URL:https://amoreiki.it/event/corso-reiki-primo-livello-milano-27-28-settembre/
LOCATION:Amoreiki\, Via Asiago 51\, Milano\, 20128\, Italia
CATEGORIES:1 livello,Corsi Reiki
ATTACH;FMTTYPE=image/jpeg:https://amoreiki.it/wp-content/uploads/2018/07/reiki-primo-livello-copia-e1623932729448.jpg
ORGANIZER;CN="Gianluigi Costa":MAILTO:info@amoreiki.it
END:VEVENT
END:VCALENDAR