BEGIN:VCALENDAR
VERSION:2.0
PRODID:-//Amoreiki - Reiki tradizionale Giapponese - ECPv6.15.20//NONSGML v1.0//EN
CALSCALE:GREGORIAN
METHOD:PUBLISH
X-ORIGINAL-URL:https://amoreiki.it
X-WR-CALDESC:Eventi per Amoreiki - Reiki tradizionale Giapponese
REFRESH-INTERVAL;VALUE=DURATION:PT1H
X-Robots-Tag:noindex
X-PUBLISHED-TTL:PT1H
BEGIN:VTIMEZONE
TZID:Europe/Rome
BEGIN:DAYLIGHT
TZOFFSETFROM:+0100
TZOFFSETTO:+0200
TZNAME:CEST
DTSTART:20240331T010000
END:DAYLIGHT
BEGIN:STANDARD
TZOFFSETFROM:+0200
TZOFFSETTO:+0100
TZNAME:CET
DTSTART:20241027T010000
END:STANDARD
BEGIN:DAYLIGHT
TZOFFSETFROM:+0100
TZOFFSETTO:+0200
TZNAME:CEST
DTSTART:20250330T010000
END:DAYLIGHT
BEGIN:STANDARD
TZOFFSETFROM:+0200
TZOFFSETTO:+0100
TZNAME:CET
DTSTART:20251026T010000
END:STANDARD
BEGIN:DAYLIGHT
TZOFFSETFROM:+0100
TZOFFSETTO:+0200
TZNAME:CEST
DTSTART:20260329T010000
END:DAYLIGHT
BEGIN:STANDARD
TZOFFSETFROM:+0200
TZOFFSETTO:+0100
TZNAME:CET
DTSTART:20261025T010000
END:STANDARD
END:VTIMEZONE
BEGIN:VEVENT
DTSTART;TZID=Europe/Rome:20251111T080000
DTEND;TZID=Europe/Rome:20251114T103000
DTSTAMP:20260419T215814
CREATED:20250903T092419Z
LAST-MODIFIED:20250920T111603Z
UID:11087-1762848000-1763116200@amoreiki.it
SUMMARY:Amma in Italia 11/12 e 13 Novembre a Piacenza
DESCRIPTION:Amma in Italia\n11-12-13 novembre 2025 \nPiacenza Expo frazione Le Mose – via Triotti 11 \nIngresso libero e gratuito \nSiamo estremamente felici di annunciare che Amma tornerà a far visita all’Italia dopo 6 anni. \n			\n				\n										\n												\n							\n						\n						\n											\n\n					\nPrev\n1 of 1\nNext\n\n\n	\n					\n								\n					\n						\n															\n													\n					\n											Amma in Italia 11\, 12 e 13 Novembre nella nuova sede di Piacenza \n																					\n									\n							\n				\n				\n\nPrev\n1 of 1\nNext\n\n				\n			\n			\nAmma da decenni serve l’umanità\, impartendo saggezza\, forza e ispirazione. Attraverso i suoi straordinari atti d’amore\, forza interiore e abnegazione\, Amma ha ispirato migliaia di persone a seguirla nel suo cammino di servizio disinteressato. Ha viaggiato in tutto il mondo per più di 30 anni\, portando amore\, speranza e pace attraverso i suoi discorsi e il darshan\, il suo abbraccio. \nPronta ad accogliere tutti senza distinzioni Amma ha abbracciato circa 40 milioni di persone in tutto il mondo e ha dato vita a una rete globale di organizzazioni umanitarie locali per aiutare ad alleviare la sofferenza attraverso soccorso in caso di calamità\, assistenza sanitaria\, istruzione\, empowerment delle donne\, tutela dell’ambiente e sfruttando la tecnologia per migliorare la vita delle persone in condizioni di povertà. \n“L’amore è la nostra vera essenza. \nL’amore non ha limiti di casta\, religione\, razza o nazionalità. \nSiamo tutti perle infilate insieme sullo stesso filo d’amore.” – Amma \nAmma accoglie tutti coloro che vogliono incontrarla di persona\, tenendoli stretti e vicini al suo cuore in un tenero abbraccio offrendo amore incondizionato. \nPer ricevere l’abbraccio di Amma\, è necessari avere un token\, che sarà distribuito in base all’ordine di arrivo. I token sono limitati\, quindi è opportuno arrivare presto. \nLe sostituzioni non sono possibili. Il programma è gratuito e aperto a tutti. \n\n\n\n\n\n\n\n\n\n\n\n\n\n\n\n\n\n\n\n\n\n\n\n\n\n\n\n\nTutto il ricavato andrà in beneficenza per i progetti umanitari di Amma. \n﻿ \n\n\n\n\n\n\n\n\n\n\nPuoi fare una donazione per sostenere l’evento\n\n\n\n\n\n\n\n\n\n\n\n\n\n\n\n\n\n\n\n\n\n\n\n\n\n\n\n\n\n\n\n\n\n\n\n\n\nVieni e unisciti a noi! \nIl programma di Amma è gestito interamente da volontari e il servizio volontario è fondamentale per il messaggio di amore e compassione di Amma. \n  \n\n\n\n\n\n\n\n\n\n\n\n\n\n\n\n\n\n11 e 12 Novembre\n● 8:00 *\n– Apertura delle file per ricevere il biglietto e inizio delle registrazioni. Distribuzione dei biglietti gratuiti per ricevere l’abbraccio di Amma (orario esatto da confermare).\n● 11:00\n– Arrivo di Amma. Seguiranno un discorso spirituale\, meditazione e canti devozionali\, seguiti dal darshan fino a sera.13 Novembre\n● 7.30 *\n– Apertura delle file per ricevere il biglietto e inizio delle registrazioni. Distribuzione dei biglietti gratuiti per ricevere l’abbraccio di Amma (orario esatto da confermare).\n● 10.00\n– Arrivo di Amma e breve meditazione guidata.\n● 10.30\n– Amma inizia ad abbracciare. (L’orario di inizio è approssimativo)Nel pomeriggio è prevista una pausa. Le registrazioni continueranno per tutta la giornata.● 17:00 *\n– Apertura delle file per ricevere il biglietto e inizio delle registrazioni. Distribuzione dei biglietti gratuiti per ricevere l’abbraccio di Amma (orario esatto da confermare).\n● 19:00\n– Amma entra nella sala e conduce un rituale per la pace nel mondo.\n● 21:45\n– Amma inizia ad abbracciare (l’orario di inizio è approssimativo). Il programma può durare fino alle prime ore del mattino. \n\n\n\n\nSono disponibili pasti e spuntini vegetariani\, libri e souvenir\, insieme a massaggi\, trattamenti ayurvedici e consulenze astrologiche. \nPer info:\nAnnamaria 3471861908\nFrancesca 3403830745\nPaola 3286574838\ninfo@amma-italia.it \nFonte: Amma Italia
URL:https://amoreiki.it/event/amma-in-italia-11-12-e-13-novembre-a-piacenza/
LOCATION:Piacenza Expo\, via Triotti 11\, Piacenza\, Italy
CATEGORIES:Eventi
ATTACH;FMTTYPE=image/jpeg:https://amoreiki.it/wp-content/uploads/2025/09/OK_AMMA_PROGRAMMA_SITO.jpg
ORGANIZER;CN="Amma Italia":MAILTO:info@amma-italia.it
END:VEVENT
END:VCALENDAR