BEGIN:VCALENDAR
VERSION:2.0
PRODID:-//Amoreiki - Reiki tradizionale Giapponese - ECPv6.15.20//NONSGML v1.0//EN
CALSCALE:GREGORIAN
METHOD:PUBLISH
X-WR-CALNAME:Amoreiki - Reiki tradizionale Giapponese
X-ORIGINAL-URL:https://amoreiki.it
X-WR-CALDESC:Eventi per Amoreiki - Reiki tradizionale Giapponese
REFRESH-INTERVAL;VALUE=DURATION:PT1H
X-Robots-Tag:noindex
X-PUBLISHED-TTL:PT1H
BEGIN:VTIMEZONE
TZID:Europe/Rome
BEGIN:DAYLIGHT
TZOFFSETFROM:+0100
TZOFFSETTO:+0200
TZNAME:CEST
DTSTART:20140330T010000
END:DAYLIGHT
BEGIN:STANDARD
TZOFFSETFROM:+0200
TZOFFSETTO:+0100
TZNAME:CET
DTSTART:20141026T010000
END:STANDARD
BEGIN:DAYLIGHT
TZOFFSETFROM:+0100
TZOFFSETTO:+0200
TZNAME:CEST
DTSTART:20150329T010000
END:DAYLIGHT
BEGIN:STANDARD
TZOFFSETFROM:+0200
TZOFFSETTO:+0100
TZNAME:CET
DTSTART:20151025T010000
END:STANDARD
BEGIN:DAYLIGHT
TZOFFSETFROM:+0100
TZOFFSETTO:+0200
TZNAME:CEST
DTSTART:20160327T010000
END:DAYLIGHT
BEGIN:STANDARD
TZOFFSETFROM:+0200
TZOFFSETTO:+0100
TZNAME:CET
DTSTART:20161030T010000
END:STANDARD
END:VTIMEZONE
BEGIN:VEVENT
DTSTART;TZID=Europe/Rome:20150418T100000
DTEND;TZID=Europe/Rome:20150418T130000
DTSTAMP:20260423T123629
CREATED:20150412T091335Z
LAST-MODIFIED:20150412T091511Z
UID:2866-1429351200-1429362000@amoreiki.it
SUMMARY:Corso su Karma e Reincarnazione
DESCRIPTION:Corso su Karma e Reincarnazione\nSiamo sicuri di sapere realmente come agisce il Karma e come funzioni la Reincarnazione? \nQuando si interrompe il ciclo della reincarnazione sulla Terra continua altrove? \nSe vuoi avere una risposta esauriente a queste domande ti aspetto sabato 18 Aprile alle ore 10.00 a Milano in via Cirenei 10\nincontro condotto da Gianluigi Costa presidente e responsabile didattico dell’Associazione Italiana Reiki. \ninfo e prenotazioni: info@amoreiki.it – 329.7223672 \n 
URL:https://amoreiki.it/event/corso-su-karma-e-reincarnazione/
LOCATION:Amoreiki\, Via Asiago 51\, Milano\, Milano\, 20128\, Italia
ATTACH;FMTTYPE=image/jpeg:https://amoreiki.it/wp-content/uploads/2014/09/karma-samskara.jpg
ORGANIZER;CN="Gianluigi Costa":MAILTO:info@amoreiki.it
END:VEVENT
END:VCALENDAR