BEGIN:VCALENDAR
VERSION:2.0
PRODID:-//Amoreiki - Reiki tradizionale Giapponese - ECPv6.15.20//NONSGML v1.0//EN
CALSCALE:GREGORIAN
METHOD:PUBLISH
X-ORIGINAL-URL:https://amoreiki.it
X-WR-CALDESC:Eventi per Amoreiki - Reiki tradizionale Giapponese
REFRESH-INTERVAL;VALUE=DURATION:PT1H
X-Robots-Tag:noindex
X-PUBLISHED-TTL:PT1H
BEGIN:VTIMEZONE
TZID:Europe/Rome
BEGIN:DAYLIGHT
TZOFFSETFROM:+0100
TZOFFSETTO:+0200
TZNAME:CEST
DTSTART:20200329T010000
END:DAYLIGHT
BEGIN:STANDARD
TZOFFSETFROM:+0200
TZOFFSETTO:+0100
TZNAME:CET
DTSTART:20201025T010000
END:STANDARD
BEGIN:DAYLIGHT
TZOFFSETFROM:+0100
TZOFFSETTO:+0200
TZNAME:CEST
DTSTART:20210328T010000
END:DAYLIGHT
BEGIN:STANDARD
TZOFFSETFROM:+0200
TZOFFSETTO:+0100
TZNAME:CET
DTSTART:20211031T010000
END:STANDARD
BEGIN:DAYLIGHT
TZOFFSETFROM:+0100
TZOFFSETTO:+0200
TZNAME:CEST
DTSTART:20220327T010000
END:DAYLIGHT
BEGIN:STANDARD
TZOFFSETFROM:+0200
TZOFFSETTO:+0100
TZNAME:CET
DTSTART:20221030T010000
END:STANDARD
END:VTIMEZONE
BEGIN:VEVENT
DTSTART;TZID=Europe/Rome:20210110T100000
DTEND;TZID=Europe/Rome:20210110T130000
DTSTAMP:20260423T021700
CREATED:20180104T092331Z
LAST-MODIFIED:20210107T100743Z
UID:4443-1610272800-1610283600@amoreiki.it
SUMMARY:Master class on line sui Mantra: Cosa sono? Origine\, Scopi e come i Mantra influiscono sui Chakra! Domenica 10 Gennaio
DESCRIPTION:Gianluigi Costa vi guiderà in un viaggio affascinante sui Mantra\, la loro Origine\, lo Scopo e il grande potere di trasformazione di queste antichissime formule. \nImpareremo a recitare e pronunciare correttamente i mantra\, Japa e Diana Mantra \nSarà inoltre fatta chiarezza su molte errate informazioni relative ai mantra. \nRelazione tra Mantra e Chakra – Come i mantra influisco sui Chakra \nh. 10.00 – 13.00 \nAbilita JavaScript nel browser per completare questo modulo.Abilita JavaScript nel browser per completare questo modulo.Nome *Cognome *Via e numero civico *c.a.p. e città *Codice Fiscale *Telefono *Email *per favore inserisci la tua emailScegli corso *Reiki 1° livelloReiki 2° livelloReiki 3° livelloMeditazione con mantraRespirazione e pranayamaTecniche energetiche integrateMassaggio energergetico spiritualeRicarica energetica e med. Hong SoAggiornamento Reiki 1° livelloAggiornamento Reiki 2° livelloAggiornamento Reiki 3° livelloAltro...Indica altro corsoData del corso *Iscriviti newsletter di Amoreiki Eventuali tue note o richiesteWebsiteInvia  \n  \n  \n \n  \n  \n  \n  \n\nSe non hai un conto PayPal o carta di credito (Bottone qui sopra) puoi versare l’importo del corso di 30 €. con Bonifico ad uno dei  seguenti IBAN \nDE30100110012626643165  (Banca N26 ) \nin alternativa puoi fare bonifico sul seguente conto corrente postale\nIT64E0760101600000049827546  \nintestato a gianluigi costa con causale  corso di …. del… \nSe hai un conto corrente Postale: PostaGiro CC. 49827546 con causale corso di …. del… \noppure tramite bollettino postale intestato a Gianluigi Costa c/c n° 49827546  con causale corso di …. del… \nPostePay 4023600902153693 intestata a Gianluigi Costa – CF CSTGLG66E07F205T \ncon queste due modalità dovresti poi mandare ricevuta del versamento effettuato ed i tuoi dati anagrafici via mail a info@amoreiki.it – oppure scatta una foto con il tuo smartphone e mandala tramite WhatsApp  :-D \nSe hai un account Satispay puoi fare il versamento da questa piattaforma. \n  \n  \n 
URL:https://amoreiki.it/event/conferenza-mantra-cosa-origine-scopi-mercoledi-17-gennaio-h-21-00/
LOCATION:Amoreiki\, Via Asiago 51\, Milano\, 20128\, Italia
CATEGORIES:Eventi,meditazione
ATTACH;FMTTYPE=image/jpeg:https://amoreiki.it/wp-content/uploads/2018/01/master-class-mantra-copia.jpg
ORGANIZER;CN="Gianluigi Costa":MAILTO:info@amoreiki.it
END:VEVENT
END:VCALENDAR