BEGIN:VCALENDAR
VERSION:2.0
PRODID:-//Amoreiki - Reiki tradizionale Giapponese - ECPv6.15.20//NONSGML v1.0//EN
CALSCALE:GREGORIAN
METHOD:PUBLISH
X-WR-CALNAME:Amoreiki - Reiki tradizionale Giapponese
X-ORIGINAL-URL:https://amoreiki.it
X-WR-CALDESC:Eventi per Amoreiki - Reiki tradizionale Giapponese
REFRESH-INTERVAL;VALUE=DURATION:PT1H
X-Robots-Tag:noindex
X-PUBLISHED-TTL:PT1H
BEGIN:VTIMEZONE
TZID:Europe/Rome
BEGIN:DAYLIGHT
TZOFFSETFROM:+0100
TZOFFSETTO:+0200
TZNAME:CEST
DTSTART:20200329T010000
END:DAYLIGHT
BEGIN:STANDARD
TZOFFSETFROM:+0200
TZOFFSETTO:+0100
TZNAME:CET
DTSTART:20201025T010000
END:STANDARD
BEGIN:DAYLIGHT
TZOFFSETFROM:+0100
TZOFFSETTO:+0200
TZNAME:CEST
DTSTART:20210328T010000
END:DAYLIGHT
BEGIN:STANDARD
TZOFFSETFROM:+0200
TZOFFSETTO:+0100
TZNAME:CET
DTSTART:20211031T010000
END:STANDARD
BEGIN:DAYLIGHT
TZOFFSETFROM:+0100
TZOFFSETTO:+0200
TZNAME:CEST
DTSTART:20220327T010000
END:DAYLIGHT
BEGIN:STANDARD
TZOFFSETFROM:+0200
TZOFFSETTO:+0100
TZNAME:CET
DTSTART:20221030T010000
END:STANDARD
END:VTIMEZONE
BEGIN:VEVENT
DTSTART;TZID=Europe/Rome:20210303T210000
DTEND;TZID=Europe/Rome:20210505T223000
DTSTAMP:20260423T004124
CREATED:20201116T164110Z
LAST-MODIFIED:20210220T140217Z
UID:6789-1614805200-1620253800@amoreiki.it
SUMMARY:CORSO DI MEDITAZIONE ON LINE CON GIANLUIGI COSTA 10 LEZIONI DA MERCOLEDI' 3 MARZO H. 21.00 - 22.30
DESCRIPTION:Il corso è strutturato in 10 lezioni teorico-pratiche della durata di 90 minuti\, tutti i mercoledì alle 21.00. Inizio corso mecoledì 3 Marzo. \nImparerari diverse tecniche di meditazione così potrai scegliere quella a te più congeniale\, inoltre riceverai tutte le conoscenze teoriche fondamentali per utilizzare consapevolmente questo potente strumento di benessere fisico\, mentale e spirituale. \n \n1^ lezione: Cos’è la meditazione a cosa serve e benefici: respirazione yogica completa e consapevolezzza del respiro \n2^ lezione: Hado e Meditazione Anapanasati “Piena consapevolezza del respiro” \n3^ lezione: Meditazione e osservazione corporea: la meditazione Vipassana  \n4^ lezione:  Yama-Nyama\, Comandamenti e precetti vari \n5^ lezione: Meditazione Tantrica: Mantra Dyana e Japa \n6^ lezione: Anatomia sottile e Meditazione con Bija Mantra\, silenzio e riverberi interiori \n7^ lezione: Meditazione Zazen  \n8^ lezione: Orari propizi\, alimentazione\, pulizia fisica e degli ambienti \n9^ lezione: Pranayama proprizi alla meditazione \n10^ lezione: Gli stadi della meditazione: pratyahara\, dharana\, dhyana\, samadhi \nISCRIVITI SUBITO POSTI LIMITATI SOLO PER I PRIMI 10 \nDopo l’invio del modulo iscrizione\, per perfezionare la stessa dovresti versare il saldo di 100\,00 €.  con il Bottone Paga Adesso sottostante al modulo di iscrizione per versamenti con carta di credito o Paypal.\nSe preferisci altre modalità le trovi sotto il bottone paga adesso. \nModulo iscrizioniAbilita JavaScript nel browser per completare questo modulo.Abilita JavaScript nel browser per completare questo modulo.Nome *Cognome *Via e numero civico *c.a.p. e città *Codice Fiscale *Telefono *Email *per favore inserisci la tua emailScegli corso *Reiki 1° livelloReiki 2° livelloReiki 3° livelloMeditazione con mantraRespirazione e pranayamaTecniche energetiche integrateMassaggio energergetico spiritualeRicarica energetica e med. Hong SoAggiornamento Reiki 1° livelloAggiornamento Reiki 2° livelloAggiornamento Reiki 3° livelloAltro...Indica altro corsoData del corso *Iscriviti newsletter di Amoreiki Eventuali tue note o richiesteEmailInvia  \n\n\n\nPrivacy policy \n\n\n\n\n \n\n\n\nCorso On Line Meditazione\n\n\nmed on line €100\,00 EUR\n\n\n\n\n \n  \nSe non hai un conto PayPal o carta di credito (Bottone qui sopra) puoi versare l’acconto di richiesto di 50 €. con Bonifico ad uno dei  seguenti IBAN \nDE30100110012626643165  (Banca N26 ) \nin alternativa puoi fare bonifico sul seguente conto corrente postale\nIT64E0760101600000049827546  \nintestato a gianluigi costa con causale  corso di …. del… \nSe hai un conto corrente Postale: PostaGiro CC. 49827546 con causale corso di …. del… \noppure tramite bollettino postale intestato a Gianluigi Costa c/c n° 49827546  con causale corso di …. del… \nPostePay 4023600965001805 intestata a Gianluigi Costa – CF CSTGLG66E07F205T \ncon queste due modalità dovresti poi mandare ricevuta del versamento effettuato ed i tuoi dati anagrafici via mail a info@amoreiki.it – oppure scatta una foto con il tuo smartphone e mandala tramite WhatsApp   \nSe hai un account Satispay puoi fare il versamento da questa piattaforma. \nDOPO LìISCRIZIONE TI SARANNO FORNITI I DATI PER ACCEDERE ALLE LEZIONI LIVE
URL:https://amoreiki.it/event/corso-di-meditazione-on-line-con-gianluigi-costa/
LOCATION:Milano
CATEGORIES:Eventi,incontri settimanali,meditazione,pranayama
ATTACH;FMTTYPE=image/jpeg:https://amoreiki.it/wp-content/uploads/2020/11/med-on-line.jpg
ORGANIZER;CN="Gianluigi Costa":MAILTO:info@amoreiki.it
END:VEVENT
END:VCALENDAR